BEGIN:VCALENDAR
VERSION:2.0
PRODID:-//Department Of Education//29d08387-8210-4773-b035-807269eed207
BEGIN:VTIMEZONE
TZID:Australia/Sydney
TZURL:http://tzurl.org/zoneinfo-outlook/Australia/Sydney
X-LIC-LOCATION:Australia/Sydney
BEGIN:STANDARD
TZOFFSETFROM:+1100
TZOFFSETTO:+1000
TZNAME:AEST
DTSTART:19700405T030000
RRULE:FREQ=YEARLY;BYMONTH=4;BYDAY=1SU
END:STANDARD
BEGIN:DAYLIGHT
TZOFFSETFROM:+1000
TZOFFSETTO:+1100
TZNAME:AEDT
DTSTART:19701004T020000
RRULE:FREQ=YEARLY;BYMONTH=10;BYDAY=1SU
END:DAYLIGHT
END:VTIMEZONE
CALSCALE:GREGORIAN
X-WR-TIMEZONE:Australia/Sydney
BEGIN:VEVENT
DTSTART;VALUE=DATE:20200330
DTEND;VALUE=DATE:20200331
DTSTAMP:20200330T000000Z
UID:6b5d4b4e-9c11-4226-90a4-816bb191533e
LOCATION:PPS Hall
SUMMARY;LANGUAGE=en-us:School Photos
SEQUENCE:0
DESCRIPTION:Envelopes to place orders for school photos have been sent home this week and can be ordered by cash (exact money only), cheque or online at www.advancedlife.com.au up until photo day. If ordering online our school code is: RH6 EV6 ZV8.  The envelopes contain the information you need to place photo orders.  Sibling photo envelopes are available from the school office.  School photos will be a full summer uniform event and a reminder note will be sent home closer to the day.  Envelopes need to be returned to school on or before photo day. Kind Regards, Kylie Ellis
END:VEVENT
TRANSP:TRANSPARENT
END:VCALENDAR
